BEGIN:VCALENDAR
VERSION:2.0
CALSCALE:GREGORIAN
METHOD:PUBLISH
X-WR-TIMEZONE:Australia/Sydney
BEGIN:VTIMEZONE
TZID:Australia/Sydney
BEGIN:STANDARD
TZNAME:AEST
END:STANDARD
END:VTIMEZONE
BEGIN:VEVENT
DTSTART;TZID=Australia/Sydney:20260212T133000
DTEND;TZID=Australia/Sydney:20260212T134500
RRULE:FREQ=WEEKLY;UNTIL=20261210T134500;BYDAY=WE
DTSTAMP:20260424T012905
UID:48
SUMMARY:Canteen Project 2026
DESCRIPTION:




As part of our Community Programs, Debney Meadows Primary School will be offering our students a hot lunch ONE day a week for a small contribution to cover costs.


SEQUENCE:0
STATUS:CONFIRMED
TRANSP:OPAQUE
END:VEVENT
END:VCALENDAR