BEGIN:VCALENDAR
VERSION:2.0
CALSCALE:GREGORIAN
METHOD:PUBLISH
X-WR-TIMEZONE:Australia/Sydney
BEGIN:VTIMEZONE
TZID:Australia/Sydney
BEGIN:STANDARD
TZNAME:AEST
END:STANDARD
END:VTIMEZONE
BEGIN:VEVENT
DTSTART;TZID=Australia/Sydney:20260424
DTEND;TZID=Australia/Sydney:20260424
DTSTAMP:20260421T222055
UID:57
SUMMARY:GALA DAY 
DESCRIPTION:




Debney Meadows Summer Gala Day will be held on Friday 24th April 2026. The event will be held at Fairburn Park, Ascot Vale with the first game at 10:00am.Families are welcome to come and support our students.


SEQUENCE:0
STATUS:CONFIRMED
TRANSP:OPAQUE
END:VEVENT
END:VCALENDAR