BEGIN:VCALENDAR
VERSION:2.0
CALSCALE:GREGORIAN
METHOD:PUBLISH
X-WR-TIMEZONE:Australia/Sydney
BEGIN:VTIMEZONE
TZID:Australia/Sydney
BEGIN:STANDARD
TZNAME:AEST
END:STANDARD
END:VTIMEZONE
BEGIN:VEVENT
DTSTART;TZID=Australia/Sydney:20260504
DTEND;TZID=Australia/Sydney:20260504
DTSTAMP:20260424T012910
UID:59
SUMMARY:Victorian Space Science Education Centre 2026
DESCRIPTION:




Students will visit the VSSEC (Victorian Science Space Education Centre) for a free excursion. During this excursionthe students take part in the Expedition to the M.A.R.S Base Program.&amp;nbsp;
This program delivers a scenario-based learning environment that engages the students in a wide range of science activities, uses computer and communications technology and strongly encourages collaborative learning and teamwork. It offers a rich experience in science and builds core skills. Students work in Mission Control and at the M.A.R.S. Base.

observing the astronauts working in the Mars Australian Research Station (M.A.R.S.)
using interactive software to monitor systems and solve related problems.
working in pairs to complete hands-on science tasks and communicate their results to Mission Control.



SEQUENCE:0
STATUS:CONFIRMED
TRANSP:OPAQUE
END:VEVENT
END:VCALENDAR