BEGIN:VCALENDAR
VERSION:2.0
CALSCALE:GREGORIAN
METHOD:PUBLISH
X-WR-TIMEZONE:Australia/Sydney
BEGIN:VTIMEZONE
TZID:Australia/Sydney
BEGIN:STANDARD
TZNAME:AEST
END:STANDARD
END:VTIMEZONE
BEGIN:VEVENT
DTSTART;TZID=Australia/Sydney:20260508
DTEND;TZID=Australia/Sydney:20260508
DTSTAMP:20260424T013345
UID:60
SUMMARY:District Cross Country
DESCRIPTION:




District Cross Country event will be held on Friday 8th May at Aberfeldie Park.&amp;nbsp;Students will be travelling by bus and returning to school at 1:00pm.Students will need to wear their sports uniform and runners, and bring plenty their lunch, recess and a water bottle.Families are encouraged to come and support their child. Please see below a timetable with estimated start times.&amp;nbsp;
Race Program:&amp;nbsp;&amp;nbsp;
1. 10:00am Girls 9/10 Years 2000m&amp;nbsp;
2. 10:15am Boys 9/10 Years 2000m&amp;nbsp;
3. 10:30am Girls 11 Years 3000m&amp;nbsp;
4. 10:55am Boys 11 Years 3000m&amp;nbsp;
5. 11:20am Girls 12/13 Years 3000m&amp;nbsp;
6. 11:45am Boys 12/13 Years 3000m


SEQUENCE:0
STATUS:CONFIRMED
TRANSP:OPAQUE
END:VEVENT
END:VCALENDAR