BEGIN:VCALENDAR
VERSION:2.0
CALSCALE:GREGORIAN
METHOD:PUBLISH
X-WR-TIMEZONE:Australia/Sydney
BEGIN:VTIMEZONE
TZID:Australia/Sydney
BEGIN:STANDARD
TZNAME:AEST
END:STANDARD
END:VTIMEZONE
BEGIN:VEVENT
DTSTART;TZID=Australia/Sydney:20260604
DTEND;TZID=Australia/Sydney:20260604
DTSTAMP:20260424T013007
UID:61
SUMMARY:Immigration Museum and Historical Walking Tour 2026
DESCRIPTION:




Grade 5/6 students will visit the&amp;nbsp;Immigration Museum, take part in a teacher-guided walk through&amp;nbsp;Chinatown Melbourne, and experience tasting sushi as part of their&amp;nbsp;Curious Minds: Australian Identity&amp;nbsp;unit. This excursion will help students explore Australia&amp;rsquo;s multicultural history, understand the contributions of diverse communities, and reflect on how migration has shaped Australian identity through real-world experiences.


SEQUENCE:0
STATUS:CONFIRMED
TRANSP:OPAQUE
END:VEVENT
END:VCALENDAR