BEGIN:VCALENDAR
VERSION:2.0
CALSCALE:GREGORIAN
METHOD:PUBLISH
X-WR-TIMEZONE:Australia/Sydney
BEGIN:VTIMEZONE
TZID:Australia/Sydney
BEGIN:STANDARD
TZNAME:AEST
END:STANDARD
END:VTIMEZONE
BEGIN:VEVENT
DTSTART;TZID=Australia/Sydney:20260611
DTEND;TZID=Australia/Sydney:20260611
DTSTAMP:20260424T013303
UID:62
SUMMARY:Eureka Tower and Historical Walking Tour 2026
DESCRIPTION:




Students will visit the Eureka Skydeck as part of their&amp;nbsp;Curious Minds: Australian Identity&amp;nbsp;unit. During this self-guided excursion, students will explore one of Melbourne&amp;rsquo;s most iconic landmarks and observe the city from above, identifying key geographical features, landmarks, and signs of cultural diversity. They will use prompts to reflect on how Melbourne&amp;rsquo;s landscape, architecture, and communities contribute to Australian identity. This experience will support students in making real-world connections to their classroom learning.


SEQUENCE:0
STATUS:CONFIRMED
TRANSP:OPAQUE
END:VEVENT
END:VCALENDAR